Package: alabaster.ranges Version: 1.11.0 Command: /home/biocbuild/bbs-3.23-bioc/R/bin/R CMD check --install=check:alabaster.ranges.install-out.txt --library=/home/biocbuild/bbs-3.23-bioc/R/site-library --timings alabaster.ranges_1.11.0.tar.gz StartedAt: 2025-11-21 20:57:16 -0500 (Fri, 21 Nov 2025) EndedAt: 2025-11-21 20:58:40 -0500 (Fri, 21 Nov 2025) EllapsedTime: 84.2 seconds RetCode: 0 Status: OK CheckDir: alabaster.ranges.Rcheck Warnings: 0