Package: alabaster.ranges Version: 1.9.1 Command: /Library/Frameworks/R.framework/Resources/bin/R CMD INSTALL alabaster.ranges StartedAt: 2025-09-30 15:16:59 -0400 (Tue, 30 Sep 2025) EndedAt: 2025-09-30 15:17:17 -0400 (Tue, 30 Sep 2025) EllapsedTime: 18.2 seconds RetCode: 0 Status: OK