Package: alabaster.ranges Version: 1.9.1 Command: /Library/Frameworks/R.framework/Resources/bin/R CMD build --keep-empty-dirs --no-resave-data alabaster.ranges StartedAt: 2025-09-29 15:56:53 -0400 (Mon, 29 Sep 2025) EndedAt: 2025-09-29 15:57:15 -0400 (Mon, 29 Sep 2025) EllapsedTime: 21.7 seconds RetCode: 0 Status: OK PackageFile: alabaster.ranges_1.9.1.tar.gz PackageFileSize: 225.5 KiB