Package: alabaster.ranges Version: 1.9.1 Command: /Library/Frameworks/R.framework/Resources/bin/R CMD INSTALL alabaster.ranges StartedAt: 2025-10-13 15:11:23 -0400 (Mon, 13 Oct 2025) EndedAt: 2025-10-13 15:11:27 -0400 (Mon, 13 Oct 2025) EllapsedTime: 4.5 seconds RetCode: 0 Status: OK