Package: alabaster.ranges Version: 1.9.1 Command: /Library/Frameworks/R.framework/Resources/bin/R CMD build --keep-empty-dirs --no-resave-data alabaster.ranges StartedAt: 2025-10-13 15:37:15 -0400 (Mon, 13 Oct 2025) EndedAt: 2025-10-13 15:37:22 -0400 (Mon, 13 Oct 2025) EllapsedTime: 7.1 seconds RetCode: 0 Status: OK PackageFile: alabaster.ranges_1.9.1.tar.gz PackageFileSize: 225.5 KiB