Package: alabaster.ranges Version: 1.9.1 Command: rm -rf alabaster.ranges.buildbin-libdir && mkdir alabaster.ranges.buildbin-libdir && /Users/biocbuild/BBS/utils/build-universal.sh alabaster.ranges_1.9.1.tar.gz /Library/Frameworks/R.framework/Resources/bin/R alabaster.ranges.buildbin-libdir StartedAt: 2025-10-14 23:12:33 -0400 (Tue, 14 Oct 2025) EndedAt: 2025-10-14 23:12:38 -0400 (Tue, 14 Oct 2025) EllapsedTime: 5.1 seconds RetCode: 0 Status: OK PackageFile: alabaster.ranges_1.9.1.tgz PackageFileSize: 317.7 KiB