Package: alabaster.files Version: 1.9.0 Command: /home/biocbuild/bbs-3.23-bioc/R/bin/R CMD INSTALL alabaster.files StartedAt: 2025-11-21 15:24:10 -0500 (Fri, 21 Nov 2025) EndedAt: 2025-11-21 15:24:24 -0500 (Fri, 21 Nov 2025) EllapsedTime: 13.8 seconds RetCode: 0 Status: OK