Package: alabaster.files Version: 1.9.0 Command: /home/biocbuild/bbs-3.23-bioc/R/bin/R CMD build --keep-empty-dirs --no-resave-data alabaster.files StartedAt: 2025-11-21 16:09:42 -0500 (Fri, 21 Nov 2025) EndedAt: 2025-11-21 16:10:02 -0500 (Fri, 21 Nov 2025) EllapsedTime: 20.0 seconds RetCode: 0 Status: OK PackageFile: alabaster.files_1.9.0.tar.gz PackageFileSize: 234.2 KiB