Package: alabaster.files Version: 1.7.0 Command: rm -rf alabaster.files.buildbin-libdir && mkdir alabaster.files.buildbin-libdir && /Users/biocbuild/BBS/utils/build-universal.sh alabaster.files_1.7.0.tar.gz /Library/Frameworks/R.framework/Resources/bin/R alabaster.files.buildbin-libdir StartedAt: 2025-10-09 22:31:26 -0400 (Thu, 09 Oct 2025) EndedAt: 2025-10-09 22:31:32 -0400 (Thu, 09 Oct 2025) EllapsedTime: 6.1 seconds RetCode: 0 Status: OK PackageFile: alabaster.files_1.7.0.tgz PackageFileSize: 572 KiB