Package: alabaster.files Version: 1.8.0 Maintainer: Aaron Lun MaintainerEmail: infinite.monkeys.with.keyboards at gmail.com git_url: https://git.bioconductor.org/packages/alabaster.files git_branch: RELEASE_3_22 git_last_commit: d6447bf git_last_commit_date: 2025-10-29 11:24:01 -0400 (Wed, 29 Oct 2025)