Package: alabaster.bumpy Version: 1.9.1 Command: F:\biocbuild\bbs-3.22-bioc\R\bin\R.exe CMD INSTALL alabaster.bumpy StartedAt: 2025-08-14 15:46:01 -0400 (Thu, 14 Aug 2025) EndedAt: 2025-08-14 15:46:23 -0400 (Thu, 14 Aug 2025) EllapsedTime: 22.8 seconds RetCode: 0 Status: OK