Package: alabaster.bumpy Version: 1.9.1 Command: chmod a+r alabaster.bumpy -R && F:\biocbuild\bbs-3.22-bioc\R\bin\R.exe CMD build --keep-empty-dirs --no-resave-data alabaster.bumpy StartedAt: 2025-08-14 18:23:14 -0400 (Thu, 14 Aug 2025) EndedAt: 2025-08-14 18:23:45 -0400 (Thu, 14 Aug 2025) EllapsedTime: 31.4 seconds RetCode: 0 Status: OK PackageFile: alabaster.bumpy_1.9.1.tar.gz PackageFileSize: 235.5 KiB