Package: alabaster.bumpy Version: 1.11.0 Command: /home/biocbuild/bbs-3.23-bioc/R/bin/R CMD INSTALL alabaster.bumpy StartedAt: 2025-11-20 15:24:14 -0500 (Thu, 20 Nov 2025) EndedAt: 2025-11-20 15:24:26 -0500 (Thu, 20 Nov 2025) EllapsedTime: 12.9 seconds RetCode: 0 Status: OK