Package: alabaster.bumpy Version: 1.11.0 Command: /home/biocbuild/bbs-3.23-bioc/R/bin/R CMD check --install=check:alabaster.bumpy.install-out.txt --library=/home/biocbuild/bbs-3.23-bioc/R/site-library --timings alabaster.bumpy_1.11.0.tar.gz StartedAt: 2025-11-20 20:57:25 -0500 (Thu, 20 Nov 2025) EndedAt: 2025-11-20 20:58:55 -0500 (Thu, 20 Nov 2025) EllapsedTime: 90.2 seconds RetCode: 0 Status: OK CheckDir: alabaster.bumpy.Rcheck Warnings: 0