Package: alabaster.base Version: 1.9.5 Command: /home/biocbuild/R/R/bin/R CMD INSTALL alabaster.base StartedAt: 2025-10-02 20:33:44 -0000 (Thu, 02 Oct 2025) EndedAt: 2025-10-02 20:35:53 -0000 (Thu, 02 Oct 2025) EllapsedTime: 128.9 seconds RetCode: 0 Status: OK