Package: alabaster.base Version: 1.9.5 Command: /home/biocbuild/R/R/bin/R CMD build --keep-empty-dirs --no-resave-data alabaster.base StartedAt: 2025-10-02 21:42:27 -0000 (Thu, 02 Oct 2025) EndedAt: 2025-10-02 21:44:37 -0000 (Thu, 02 Oct 2025) EllapsedTime: 130.1 seconds RetCode: 0 Status: OK PackageFile: alabaster.base_1.9.5.tar.gz PackageFileSize: 355.4 KiB