Package: alabaster.base Version: 1.9.5 Command: chmod a+r alabaster.base -R && F:\biocbuild\bbs-3.22-bioc\R\bin\R.exe CMD build --keep-empty-dirs --no-resave-data alabaster.base StartedAt: 2025-08-14 18:23:13 -0400 (Thu, 14 Aug 2025) EndedAt: 2025-08-14 18:25:45 -0400 (Thu, 14 Aug 2025) EllapsedTime: 152.5 seconds RetCode: 0 Status: OK PackageFile: alabaster.base_1.9.5.tar.gz PackageFileSize: 331 KiB