Package: alabaster.base Version: 1.11.1 Command: /home/biocbuild/bbs-3.23-bioc/R/bin/R CMD INSTALL alabaster.base StartedAt: 2025-11-20 15:13:26 -0500 (Thu, 20 Nov 2025) EndedAt: 2025-11-20 15:14:49 -0500 (Thu, 20 Nov 2025) EllapsedTime: 83.2 seconds RetCode: 0 Status: OK