Package: alabaster.base Version: 1.11.1 Command: /home/biocbuild/bbs-3.23-bioc/R/bin/R CMD check --install=check:alabaster.base.install-out.txt --library=/home/biocbuild/bbs-3.23-bioc/R/site-library --timings alabaster.base_1.11.1.tar.gz StartedAt: 2025-11-20 20:57:20 -0500 (Thu, 20 Nov 2025) EndedAt: 2025-11-20 20:59:01 -0500 (Thu, 20 Nov 2025) EllapsedTime: 101.3 seconds RetCode: 0 Status: WARNINGS CheckDir: alabaster.base.Rcheck Warnings: 1