Package: alabaster.base Version: 1.11.1 Command: /home/biocbuild/bbs-3.23-bioc/R/bin/R CMD build --keep-empty-dirs --no-resave-data alabaster.base StartedAt: 2025-11-20 16:09:00 -0500 (Thu, 20 Nov 2025) EndedAt: 2025-11-20 16:10:34 -0500 (Thu, 20 Nov 2025) EllapsedTime: 94.1 seconds RetCode: 0 Status: OK PackageFile: alabaster.base_1.11.1.tar.gz PackageFileSize: 330.6 KiB