Package: alabaster.base Version: 1.9.5 Command: /Library/Frameworks/R.framework/Resources/bin/R CMD INSTALL alabaster.base StartedAt: 2025-10-03 15:07:50 -0400 (Fri, 03 Oct 2025) EndedAt: 2025-10-03 15:08:14 -0400 (Fri, 03 Oct 2025) EllapsedTime: 24.3 seconds RetCode: 0 Status: OK