Package: agilp Version: 3.41.0 Command: /home/biocbuild/R/R/bin/R CMD INSTALL agilp StartedAt: 2025-10-20 20:08:47 -0000 (Mon, 20 Oct 2025) EndedAt: 2025-10-20 20:09:05 -0000 (Mon, 20 Oct 2025) EllapsedTime: 17.7 seconds RetCode: 0 Status: OK