Package: agilp Version: 3.41.0 Command: /home/biocbuild/R/R/bin/R CMD build --keep-empty-dirs --no-resave-data agilp StartedAt: 2025-10-20 21:36:58 -0000 (Mon, 20 Oct 2025) EndedAt: 2025-10-20 21:37:04 -0000 (Mon, 20 Oct 2025) EllapsedTime: 6.0 seconds RetCode: 0 Status: OK PackageFile: agilp_3.41.0.tar.gz PackageFileSize: 446.1 KiB