Package: agilp Version: 3.41.0 Command: /home/biocbuild/bbs-3.22-bioc/R/bin/R CMD check --install=check:agilp.install-out.txt --library=/home/biocbuild/bbs-3.22-bioc/R/site-library --timings agilp_3.41.0.tar.gz StartedAt: 2025-10-05 21:00:45 -0400 (Sun, 05 Oct 2025) EndedAt: 2025-10-05 21:01:02 -0400 (Sun, 05 Oct 2025) EllapsedTime: 17.0 seconds RetCode: 0 Status: OK CheckDir: agilp.Rcheck Warnings: 0