Package: agilp Version: 3.43.0 Command: /home/biocbuild/bbs-3.23-bioc/R/bin/R CMD INSTALL agilp StartedAt: 2025-10-31 15:10:06 -0400 (Fri, 31 Oct 2025) EndedAt: 2025-10-31 15:10:13 -0400 (Fri, 31 Oct 2025) EllapsedTime: 7.0 seconds RetCode: 0 Status: OK