Package: agilp Version: 3.43.0 Command: /home/biocbuild/bbs-3.23-bioc/R/bin/R CMD check --install=check:agilp.install-out.txt --library=/home/biocbuild/bbs-3.23-bioc/R/site-library --timings agilp_3.43.0.tar.gz StartedAt: 2025-10-31 21:01:05 -0400 (Fri, 31 Oct 2025) EndedAt: 2025-10-31 21:01:22 -0400 (Fri, 31 Oct 2025) EllapsedTime: 17.0 seconds RetCode: 0 Status: OK CheckDir: agilp.Rcheck Warnings: 0