Package: agilp Version: 3.43.0 Command: /home/biocbuild/bbs-3.23-bioc/R/bin/R CMD build --keep-empty-dirs --no-resave-data agilp StartedAt: 2025-11-02 16:14:32 -0500 (Sun, 02 Nov 2025) EndedAt: 2025-11-02 16:14:38 -0500 (Sun, 02 Nov 2025) EllapsedTime: 6.0 seconds RetCode: 0 Status: OK PackageFile: agilp_3.43.0.tar.gz PackageFileSize: 452.9 KiB