Package: aggregateBioVar Version: 1.21.0 Command: /home/biocbuild/bbs-3.23-bioc/R/bin/R CMD INSTALL aggregateBioVar StartedAt: 2025-11-06 15:18:34 -0500 (Thu, 06 Nov 2025) EndedAt: 2025-11-06 15:18:55 -0500 (Thu, 06 Nov 2025) EllapsedTime: 20.9 seconds RetCode: 0 Status: OK