Package: aggregateBioVar Version: 1.21.0 Command: /home/biocbuild/bbs-3.23-bioc/R/bin/R CMD build --keep-empty-dirs --no-resave-data aggregateBioVar StartedAt: 2025-11-06 16:07:49 -0500 (Thu, 06 Nov 2025) EndedAt: 2025-11-06 16:09:09 -0500 (Thu, 06 Nov 2025) EllapsedTime: 80.1 seconds RetCode: 0 Status: OK PackageFile: aggregateBioVar_1.21.0.tar.gz PackageFileSize: 1.241 MiB