Package: aggregateBioVar Version: 1.19.1 Command: /Library/Frameworks/R.framework/Resources/bin/R CMD check --install=check:aggregateBioVar.install-out.txt --library=/Library/Frameworks/R.framework/Resources/library --no-vignettes --timings aggregateBioVar_1.19.1.tar.gz StartedAt: 2025-10-15 18:13:21 -0400 (Wed, 15 Oct 2025) EndedAt: 2025-10-15 18:14:27 -0400 (Wed, 15 Oct 2025) EllapsedTime: 65.8 seconds RetCode: 0 Status: OK CheckDir: aggregateBioVar.Rcheck Warnings: 0