Package: affylmGUI Version: 1.85.0 Command: /home/biocbuild/bbs-3.23-bioc/R/bin/R CMD INSTALL affylmGUI StartedAt: 2025-11-04 15:24:26 -0500 (Tue, 04 Nov 2025) EndedAt: 2025-11-04 15:24:46 -0500 (Tue, 04 Nov 2025) EllapsedTime: 19.8 seconds RetCode: 0 Status: OK