Package: affylmGUI Version: 1.83.0 Command: /Library/Frameworks/R.framework/Resources/bin/R CMD INSTALL affylmGUI StartedAt: 2025-10-08 15:23:16 -0400 (Wed, 08 Oct 2025) EndedAt: 2025-10-08 15:23:50 -0400 (Wed, 08 Oct 2025) EllapsedTime: 34.0 seconds RetCode: 0 Status: OK