Package: affylmGUI Version: 1.83.0 Command: /Library/Frameworks/R.framework/Resources/bin/R CMD build --keep-empty-dirs --no-resave-data affylmGUI StartedAt: 2025-10-08 16:02:25 -0400 (Wed, 08 Oct 2025) EndedAt: 2025-10-08 16:03:05 -0400 (Wed, 08 Oct 2025) EllapsedTime: 40.1 seconds RetCode: 0 Status: OK PackageFile: affylmGUI_1.83.0.tar.gz PackageFileSize: 1.758 MiB