Package: affyio Version: 1.81.0 Command: /home/biocbuild/bbs-3.23-bioc/R/bin/R CMD INSTALL affyio StartedAt: 2025-11-20 15:02:08 -0500 (Thu, 20 Nov 2025) EndedAt: 2025-11-20 15:02:19 -0500 (Thu, 20 Nov 2025) EllapsedTime: 11.7 seconds RetCode: 0 Status: OK