Package: affyio Version: 1.81.0 Command: /home/biocbuild/bbs-3.23-bioc/R/bin/R CMD build --keep-empty-dirs --no-resave-data affyio StartedAt: 2025-11-20 16:08:17 -0500 (Thu, 20 Nov 2025) EndedAt: 2025-11-20 16:08:18 -0500 (Thu, 20 Nov 2025) EllapsedTime: 1.0 seconds RetCode: 0 Status: OK PackageFile: affyio_1.81.0.tar.gz PackageFileSize: 107.8 KiB