Package: affyio Version: 1.81.0 Command: /Library/Frameworks/R.framework/Resources/bin/R CMD INSTALL affyio StartedAt: 2025-11-17 15:04:29 -0500 (Mon, 17 Nov 2025) EndedAt: 2025-11-17 15:05:04 -0500 (Mon, 17 Nov 2025) EllapsedTime: 34.8 seconds RetCode: 0 Status: OK