Package: affyio Version: 1.81.0 Command: rm -rf affyio.buildbin-libdir && mkdir affyio.buildbin-libdir && /Users/biocbuild/BBS/utils/build-universal.sh affyio_1.81.0.tar.gz /Library/Frameworks/R.framework/Resources/bin/R affyio.buildbin-libdir StartedAt: 2025-11-19 01:15:55 -0500 (Wed, 19 Nov 2025) EndedAt: 2025-11-19 01:16:34 -0500 (Wed, 19 Nov 2025) EllapsedTime: 39.3 seconds RetCode: 0 Status: OK PackageFile: affyio_1.81.0.tgz PackageFileSize: 99.58 KiB