Package: affyio Version: 1.79.0 Command: /Library/Frameworks/R.framework/Resources/bin/R CMD INSTALL affyio StartedAt: 2025-10-23 15:01:42 -0400 (Thu, 23 Oct 2025) EndedAt: 2025-10-23 15:01:49 -0400 (Thu, 23 Oct 2025) EllapsedTime: 7.2 seconds RetCode: 0 Status: OK