Back to Build/check report for BioC 3.23:   simplified   long
[A]BCDEFGHIJKLMNOPQRSTUVWXYZ

This page was generated on 2025-11-08 11:31 -0500 (Sat, 08 Nov 2025).

HostnameOSArch (*)R versionInstalled pkgs
nebbiolo1Linux (Ubuntu 24.04.3 LTS)x86_64R Under development (unstable) (2025-10-20 r88955) -- "Unsuffered Consequences" 4821
Click on any hostname to see more info about the system (e.g. compilers)      (*) as reported by 'uname -p', except on Windows and Mac OS X

All results for package affyio


To the developers/maintainers of the affyio package:
- Allow up to 24 hours (and sometimes 48 hours) for your latest push to git@git.bioconductor.org:packages/affyio.git to reflect on this report. See Troubleshooting Build Report for more information.
- Use the following Renviron settings to reproduce errors and warnings.
- If 'R CMD check' started to fail recently on the Linux builder(s) over a missing dependency, add the missing dependency to 'Suggests:' in your DESCRIPTION file. See Renviron.bioc for more information.

raw results

Package 29/2323HostnameOS / ArchINSTALLBUILDCHECKBUILD BIN
affyio 1.81.0  (landing page)
Ben Bolstad
Snapshot Date: 2025-11-07 13:40 -0500 (Fri, 07 Nov 2025)
git_url: https://git.bioconductor.org/packages/affyio
git_branch: devel
git_last_commit: 51aea4e
git_last_commit_date: 2025-10-29 09:42:03 -0500 (Wed, 29 Oct 2025)
nebbiolo1Linux (Ubuntu 24.04.3 LTS) / x86_64  OK    OK    WARNINGS  UNNEEDED, same version is already published



Results for Bioconductor software packages that depend directly on package affyio

QUICK STATSOS / ArchINSTALLBUILDCHECKBUILD BIN
nebbiolo1Linux (Ubuntu 24.04.3 LTS) / x86_64
0010
0010
0046
Package 1/10HostnameOS / ArchINSTALLBUILDCHECKBUILD BIN
affy 1.89.0  (landing page)
Robert D. Shear
git_last_commit: b2e5a66
git_last_commit_date: 2025-10-29 09:42:08 -0500
nebbiolo1Linux (Ubuntu 24.04.3 LTS) / x86_64  OK    OK    WARNINGS  UNNEEDED, same version is already published
Package 2/10HostnameOS / ArchINSTALLBUILDCHECKBUILD BIN
affylmGUI 1.85.0  (landing page)
Gordon Smyth
git_last_commit: 6df4f72
git_last_commit_date: 2025-10-29 09:54:46 -0500
nebbiolo1Linux (Ubuntu 24.04.3 LTS) / x86_64  OK    OK    OK  UNNEEDED, same version is already published
Package 3/10HostnameOS / ArchINSTALLBUILDCHECKBUILD BIN
crlmm 1.69.0  (landing page)
Benilton S Carvalho
git_last_commit: 51993cf
git_last_commit_date: 2025-10-29 10:02:32 -0500
nebbiolo1Linux (Ubuntu 24.04.3 LTS) / x86_64  OK    OK    WARNINGS  UNNEEDED, same version is already published
Package 4/10HostnameOS / ArchINSTALLBUILDCHECKBUILD BIN
ExiMiR 2.53.0  (landing page)
Sylvain Gubian
git_last_commit: 6d3b680
git_last_commit_date: 2025-10-29 10:06:33 -0500
nebbiolo1Linux (Ubuntu 24.04.3 LTS) / x86_64  OK    OK    OK  UNNEEDED, same version is already published
Package 5/10HostnameOS / ArchINSTALLBUILDCHECKBUILD BIN
gcrma 2.83.0  (landing page)
Z. Wu
git_last_commit: 2a7d479
git_last_commit_date: 2025-10-29 09:53:32 -0500
nebbiolo1Linux (Ubuntu 24.04.3 LTS) / x86_64  OK    OK    OK  UNNEEDED, same version is already published
Package 6/10HostnameOS / ArchINSTALLBUILDCHECKBUILD BIN
makecdfenv 1.87.0  (landing page)
James W. MacDonald
git_last_commit: 7eb6d83
git_last_commit_date: 2025-10-29 09:42:16 -0500
nebbiolo1Linux (Ubuntu 24.04.3 LTS) / x86_64  OK    OK    WARNINGS  UNNEEDED, same version is already published
Package 7/10HostnameOS / ArchINSTALLBUILDCHECKBUILD BIN
oligo 1.75.0  (landing page)
Benilton Carvalho
git_last_commit: e5c4ecd
git_last_commit_date: 2025-10-29 09:56:42 -0500
nebbiolo1Linux (Ubuntu 24.04.3 LTS) / x86_64  OK    OK    OK  UNNEEDED, same version is already published
Package 8/10HostnameOS / ArchINSTALLBUILDCHECKBUILD BIN
oligoClasses 1.73.0  (landing page)
Benilton Carvalho and Robert Scharpf
git_last_commit: 924ec0a
git_last_commit_date: 2025-10-29 09:59:50 -0500
nebbiolo1Linux (Ubuntu 24.04.3 LTS) / x86_64  OK    OK    WARNINGS  UNNEEDED, same version is already published
Package 9/10HostnameOS / ArchINSTALLBUILDCHECKBUILD BIN
puma 3.53.0  (landing page)
Xuejun Liu
git_last_commit: fdcbc97
git_last_commit_date: 2025-10-29 09:59:30 -0500
nebbiolo1Linux (Ubuntu 24.04.3 LTS) / x86_64  OK    OK    OK  UNNEEDED, same version is already published
Package 10/10HostnameOS / ArchINSTALLBUILDCHECKBUILD BIN
SCAN.UPC 2.53.0  (landing page)
Stephen R. Piccolo
git_last_commit: 89643cf
git_last_commit_date: 2025-10-29 10:12:17 -0500
nebbiolo1Linux (Ubuntu 24.04.3 LTS) / x86_64  OK    OK    OK  UNNEEDED, same version is already published