Package: affycoretools Version: 1.83.0 Command: /home/biocbuild/bbs-3.23-bioc/R/bin/R CMD build --keep-empty-dirs --no-resave-data affycoretools StartedAt: 2025-11-20 16:08:12 -0500 (Thu, 20 Nov 2025) EndedAt: 2025-11-20 16:09:48 -0500 (Thu, 20 Nov 2025) EllapsedTime: 96.1 seconds RetCode: 0 Status: OK PackageFile: affycoretools_1.83.0.tar.gz PackageFileSize: 6.605 MiB