Package: affycoretools Version: 1.81.1 Command: /Library/Frameworks/R.framework/Resources/bin/R CMD INSTALL affycoretools StartedAt: 2025-10-10 15:50:27 -0400 (Fri, 10 Oct 2025) EndedAt: 2025-10-10 15:51:50 -0400 (Fri, 10 Oct 2025) EllapsedTime: 82.9 seconds RetCode: 0 Status: OK