Package: affycoretools Version: 1.81.1 Command: /Library/Frameworks/R.framework/Resources/bin/R CMD build --keep-empty-dirs --no-resave-data affycoretools StartedAt: 2025-10-10 16:03:28 -0400 (Fri, 10 Oct 2025) EndedAt: 2025-10-10 16:05:27 -0400 (Fri, 10 Oct 2025) EllapsedTime: 119.3 seconds RetCode: 0 Status: OK PackageFile: affycoretools_1.81.1.tar.gz PackageFileSize: 6.594 MiB