Package: affycoretools Version: 1.81.1 Command: rm -rf affycoretools.buildbin-libdir && mkdir affycoretools.buildbin-libdir && /Users/biocbuild/BBS/utils/build-universal.sh affycoretools_1.81.1.tar.gz /Library/Frameworks/R.framework/Resources/bin/R affycoretools.buildbin-libdir StartedAt: 2025-10-13 02:19:35 -0400 (Mon, 13 Oct 2025) EndedAt: 2025-10-13 02:21:05 -0400 (Mon, 13 Oct 2025) EllapsedTime: 90.3 seconds RetCode: 0 Status: OK PackageFile: affycoretools_1.81.1.tgz PackageFileSize: 575.2 KiB