Package: affycoretools Version: 1.82.0 Maintainer: James W. MacDonald MaintainerEmail: jmacdon at u.washington.edu git_url: https://git.bioconductor.org/packages/affycoretools git_branch: RELEASE_3_22 git_last_commit: c96a089 git_last_commit_date: 2025-10-29 09:57:11 -0400 (Wed, 29 Oct 2025)