Package: affycomp Version: 1.85.0 Command: /home/biocbuild/bbs-3.22-bioc/R/bin/R CMD INSTALL affycomp StartedAt: 2025-10-03 15:11:35 -0400 (Fri, 03 Oct 2025) EndedAt: 2025-10-03 15:11:39 -0400 (Fri, 03 Oct 2025) EllapsedTime: 4.1 seconds RetCode: 0 Status: OK