Package: affyPLM Version: 1.85.0 Command: /Library/Frameworks/R.framework/Resources/bin/R CMD INSTALL affyPLM StartedAt: 2025-10-16 15:45:04 -0400 (Thu, 16 Oct 2025) EndedAt: 2025-10-16 15:45:40 -0400 (Thu, 16 Oct 2025) EllapsedTime: 36.1 seconds RetCode: 0 Status: OK