Package: affyPLM Version: 1.85.0 Command: /Library/Frameworks/R.framework/Resources/bin/R CMD build --keep-empty-dirs --no-resave-data affyPLM StartedAt: 2025-10-16 16:25:37 -0400 (Thu, 16 Oct 2025) EndedAt: 2025-10-16 16:28:21 -0400 (Thu, 16 Oct 2025) EllapsedTime: 163.4 seconds RetCode: 0 Status: OK PackageFile: affyPLM_1.85.0.tar.gz PackageFileSize: 6.289 MiB