Package: affyPLM Version: 1.85.0 Command: rm -rf affyPLM.buildbin-libdir && mkdir affyPLM.buildbin-libdir && /Users/biocbuild/BBS/utils/build-universal.sh affyPLM_1.85.0.tar.gz /Library/Frameworks/R.framework/Resources/bin/R affyPLM.buildbin-libdir StartedAt: 2025-10-17 03:36:59 -0400 (Fri, 17 Oct 2025) EndedAt: 2025-10-17 03:37:44 -0400 (Fri, 17 Oct 2025) EllapsedTime: 45.2 seconds RetCode: 0 Status: OK PackageFile: affyPLM_1.85.0.tgz PackageFileSize: 4.504 MiB