Package: affyPLM Version: 1.85.0 Command: /Library/Frameworks/R.framework/Resources/bin/R CMD INSTALL affyPLM StartedAt: 2025-10-10 15:10:30 -0400 (Fri, 10 Oct 2025) EndedAt: 2025-10-10 15:10:38 -0400 (Fri, 10 Oct 2025) EllapsedTime: 8.3 seconds RetCode: 0 Status: OK