Package: affyPLM Version: 1.85.0 Command: /Library/Frameworks/R.framework/Resources/bin/R CMD build --keep-empty-dirs --no-resave-data affyPLM StartedAt: 2025-10-10 15:38:00 -0400 (Fri, 10 Oct 2025) EndedAt: 2025-10-10 15:39:22 -0400 (Fri, 10 Oct 2025) EllapsedTime: 82.8 seconds RetCode: 0 Status: OK PackageFile: affyPLM_1.85.0.tar.gz PackageFileSize: 6.291 MiB